BEGIN:VCALENDAR
VERSION:2.0
PRODID:-//Willkommen beim Schweriner-RV - ECPv6.15.20//NONSGML v1.0//EN
CALSCALE:GREGORIAN
METHOD:PUBLISH
X-WR-CALNAME:Willkommen beim Schweriner-RV
X-ORIGINAL-URL:https://www.schweriner-rv.de
X-WR-CALDESC:Veranstaltungen für Willkommen beim Schweriner-RV
REFRESH-INTERVAL;VALUE=DURATION:PT1H
X-Robots-Tag:noindex
X-PUBLISHED-TTL:PT1H
BEGIN:VTIMEZONE
TZID:Europe/Berlin
BEGIN:DAYLIGHT
TZOFFSETFROM:+0100
TZOFFSETTO:+0200
TZNAME:CEST
DTSTART:20250330T010000
END:DAYLIGHT
BEGIN:STANDARD
TZOFFSETFROM:+0200
TZOFFSETTO:+0100
TZNAME:CET
DTSTART:20251026T010000
END:STANDARD
BEGIN:DAYLIGHT
TZOFFSETFROM:+0100
TZOFFSETTO:+0200
TZNAME:CEST
DTSTART:20260329T010000
END:DAYLIGHT
BEGIN:STANDARD
TZOFFSETFROM:+0200
TZOFFSETTO:+0100
TZNAME:CET
DTSTART:20261025T010000
END:STANDARD
BEGIN:DAYLIGHT
TZOFFSETFROM:+0100
TZOFFSETTO:+0200
TZNAME:CEST
DTSTART:20270328T010000
END:DAYLIGHT
BEGIN:STANDARD
TZOFFSETFROM:+0200
TZOFFSETTO:+0100
TZNAME:CET
DTSTART:20271031T010000
END:STANDARD
END:VTIMEZONE
BEGIN:VEVENT
DTSTART;TZID=Europe/Berlin:20260425T100000
DTEND;TZID=Europe/Berlin:20260425T140000
DTSTAMP:20260425T121714
CREATED:20251120T082221Z
LAST-MODIFIED:20251120T082221Z
UID:4521-1777111200-1777125600@www.schweriner-rv.de
SUMMARY:Landesmeisterschaften MV im Kunstradsport
DESCRIPTION:teilen teilen 
URL:https://www.schweriner-rv.de/veranstaltung/landesmeisterschaften-mv-im-kunstradsport/
LOCATION:Sporthalle Johannes Brahms Straße\, Johannes Brahms Straße 55\, Schwerin\, 19059\, Deutschland
END:VEVENT
END:VCALENDAR